BEGIN:VCALENDAR
VERSION:2.0
PRODID:-//Healthgrain Forum - ECPv6.15.20//NONSGML v1.0//EN
CALSCALE:GREGORIAN
METHOD:PUBLISH
X-ORIGINAL-URL:https://healthgrain.org
X-WR-CALDESC:Events for Healthgrain Forum
REFRESH-INTERVAL;VALUE=DURATION:PT1H
X-Robots-Tag:noindex
X-PUBLISHED-TTL:PT1H
BEGIN:VTIMEZONE
TZID:Europe/Vienna
BEGIN:DAYLIGHT
TZOFFSETFROM:+0100
TZOFFSETTO:+0200
TZNAME:CEST
DTSTART:20230326T010000
END:DAYLIGHT
BEGIN:STANDARD
TZOFFSETFROM:+0200
TZOFFSETTO:+0100
TZNAME:CET
DTSTART:20231029T010000
END:STANDARD
BEGIN:DAYLIGHT
TZOFFSETFROM:+0100
TZOFFSETTO:+0200
TZNAME:CEST
DTSTART:20240331T010000
END:DAYLIGHT
BEGIN:STANDARD
TZOFFSETFROM:+0200
TZOFFSETTO:+0100
TZNAME:CET
DTSTART:20241027T010000
END:STANDARD
BEGIN:DAYLIGHT
TZOFFSETFROM:+0100
TZOFFSETTO:+0200
TZNAME:CEST
DTSTART:20250330T010000
END:DAYLIGHT
BEGIN:STANDARD
TZOFFSETFROM:+0200
TZOFFSETTO:+0100
TZNAME:CET
DTSTART:20251026T010000
END:STANDARD
END:VTIMEZONE
BEGIN:VEVENT
DTSTART;TZID=Europe/Vienna:20241106T140000
DTEND;TZID=Europe/Vienna:20241106T153000
DTSTAMP:20260425T173956
CREATED:20241010T095133Z
LAST-MODIFIED:20241010T104813Z
UID:9095-1730901600-1730907000@healthgrain.org
SUMMARY:3rdHealthFerm Webinar: Microbiology and technology of sourdough production
DESCRIPTION:We are happy to invite you to the HealthFerm webinar on 6th of November 2pm-3:30pm CET: \nMicrobiology and technology of sourdough production \nModerator: Jan de Vries\, Nutrition Solutions\, Gorssel\, The Netherlands \nSpeakers: \n\nChristophe Courtin: Introduction\nLuc de Vuyst: Microbial aspects of sourdough production\nKati Katina: Technological and sensory aspects of sourdough production\nValery Gutsal: how do we use this knowledge in an industrial contex\n\nRegister for this free webinar here: https://attendee.gotowebinar.com/register/5743386291592241757?source=hgf
URL:https://healthgrain.org/event/healthferm-webinar/
CATEGORIES:events
END:VEVENT
END:VCALENDAR